BEGIN:VCALENDAR
VERSION:2.0
PRODID:-//FAM - ECPv6.15.20//NONSGML v1.0//EN
CALSCALE:GREGORIAN
METHOD:PUBLISH
X-ORIGINAL-URL:https://fortbildung-am-mittwoch.de
X-WR-CALDESC:Veranstaltungen für FAM
REFRESH-INTERVAL;VALUE=DURATION:PT1H
X-Robots-Tag:noindex
X-PUBLISHED-TTL:PT1H
BEGIN:VTIMEZONE
TZID:Europe/Berlin
BEGIN:DAYLIGHT
TZOFFSETFROM:+0100
TZOFFSETTO:+0200
TZNAME:CEST
DTSTART:20240331T010000
END:DAYLIGHT
BEGIN:STANDARD
TZOFFSETFROM:+0200
TZOFFSETTO:+0100
TZNAME:CET
DTSTART:20241027T010000
END:STANDARD
BEGIN:DAYLIGHT
TZOFFSETFROM:+0100
TZOFFSETTO:+0200
TZNAME:CEST
DTSTART:20250330T010000
END:DAYLIGHT
BEGIN:STANDARD
TZOFFSETFROM:+0200
TZOFFSETTO:+0100
TZNAME:CET
DTSTART:20251026T010000
END:STANDARD
BEGIN:DAYLIGHT
TZOFFSETFROM:+0100
TZOFFSETTO:+0200
TZNAME:CEST
DTSTART:20260329T010000
END:DAYLIGHT
BEGIN:STANDARD
TZOFFSETFROM:+0200
TZOFFSETTO:+0100
TZNAME:CET
DTSTART:20261025T010000
END:STANDARD
END:VTIMEZONE
BEGIN:VEVENT
DTSTART;TZID=Europe/Berlin:20251015T143000
DTEND;TZID=Europe/Berlin:20251015T200000
DTSTAMP:20260421T104430
CREATED:20241124T160916Z
LAST-MODIFIED:20241124T160919Z
UID:10000039-1760538600-1760558400@fortbildung-am-mittwoch.de
SUMMARY:Umgang und elterliche Sorge – Neue Entwicklungen in Rechtsprechung und Gesetzgebung / Häusliche Gewalt und Umsetzung der Istanbul-Konvention in familiengerichtlichen Verfahren 
DESCRIPTION:Referent: Morten Woltaire Richter am Amtsgericht Lübeck Morten Woltaire referiert über das Umgangs- und Sorgerecht im Kontext der Istanbul-Konvention: \n\n\n\n\nAus der Praxis für die Praxis: Aktuelle Entwicklungen im Kindschaftsrecht\n\n\n\nIstanbul Konvention: Umsetzung und Wirkung in der familiengerichtlichen Praxis\, insbesondere hinsichtlich der Frage\, ob und wie Partnerschaftsgewalt bei Umgangs- und Sorgerechtsentscheidungen Berücksichtigung findet.\n\n\n\nKrisenfälle im Blickpunkt: Umgangsverweigerung und Umgangspflicht \n\n\n\nHäusliche Gewalt in Umgangs- und Sorgerechtsverfahren\n\n\n\nReformen in Umgangs- und Sorgerecht: Wie ist der aktuelle Stand? \n\n\n\n\n\n\n\n\n\n\n\n\n\n\n\n\n\n\n\n\n\n\n\n\n\n\n\n\n					\n					\n				\n				\n					\n						Bonuspaket 2025\n					\n					\n					605\,00 € 719\,95 €\n					WeiterlesenWeiter\n				Laden\n				Erledigt\n				\n				\n			\n\n\n\n\nUnser Bonuspaket ermöglicht die Teilnahme an 3 verschiedenen § 15 FAO-Veranstaltungen in diesem Jahr.Nach Zahlungseingang erhalten Sie einen Gutscheincode mit dem Sie die Tickets für 3 beliebige Veranstaltungen kaufen.Das Bonuspaket ist Personengebunden.
URL:https://fortbildung-am-mittwoch.de/event/umgang-und-elterliche-sorge-neue-entwicklungen-in-rechtsprechung-und-gesetzgebung-haeusliche-gewalt-und-umsetzung-der-istanbul-konvention-in-familiengerichtlichen-verfahren/
LOCATION:Rudolf Steiner Haus\, Mittelweg 11-12\, Hamburg\, 20148\, Deutschland
CATEGORIES:Fortbildungen
END:VEVENT
END:VCALENDAR