BEGIN:VCALENDAR
VERSION:2.0
PRODID:-//FAM - ECPv6.15.20//NONSGML v1.0//EN
CALSCALE:GREGORIAN
METHOD:PUBLISH
X-WR-CALNAME:FAM
X-ORIGINAL-URL:https://fortbildung-am-mittwoch.de
X-WR-CALDESC:Veranstaltungen für FAM
REFRESH-INTERVAL;VALUE=DURATION:PT1H
X-Robots-Tag:noindex
X-PUBLISHED-TTL:PT1H
BEGIN:VTIMEZONE
TZID:Europe/Berlin
BEGIN:DAYLIGHT
TZOFFSETFROM:+0100
TZOFFSETTO:+0200
TZNAME:CEST
DTSTART:20240331T010000
END:DAYLIGHT
BEGIN:STANDARD
TZOFFSETFROM:+0200
TZOFFSETTO:+0100
TZNAME:CET
DTSTART:20241027T010000
END:STANDARD
BEGIN:DAYLIGHT
TZOFFSETFROM:+0100
TZOFFSETTO:+0200
TZNAME:CEST
DTSTART:20250330T010000
END:DAYLIGHT
BEGIN:STANDARD
TZOFFSETFROM:+0200
TZOFFSETTO:+0100
TZNAME:CET
DTSTART:20251026T010000
END:STANDARD
BEGIN:DAYLIGHT
TZOFFSETFROM:+0100
TZOFFSETTO:+0200
TZNAME:CEST
DTSTART:20260329T010000
END:DAYLIGHT
BEGIN:STANDARD
TZOFFSETFROM:+0200
TZOFFSETTO:+0100
TZNAME:CET
DTSTART:20261025T010000
END:STANDARD
END:VTIMEZONE
BEGIN:VEVENT
DTSTART;TZID=Europe/Berlin:20250409T143000
DTEND;TZID=Europe/Berlin:20250409T200000
DTSTAMP:20260421T194516
CREATED:20241124T152605Z
LAST-MODIFIED:20250326T162456Z
UID:10000035-1744209000-1744228800@fortbildung-am-mittwoch.de
SUMMARY:Aktuelles Unterhaltsrecht
DESCRIPTION:Referent: Dr. Alexander Witt Richter am Hanseatischen Oberlandesgericht Derzeit Wissenschaftlicher Mitarbeiter am BVerfG Dr. Alexander Witt stellt die wichtigsten aktuellen Entscheidungen des Bundesgerichtshofes zum Unterhaltsrecht vor und bringt die Seminarteilnehmer*innen so auf den neuesten Stand im Unterhaltsrecht. Thematisiert wird unter anderem die Entwicklung im Kindesunterhalt: \n\n\n\n\nVertretungsbefugnis im paritätischen Wechselmodell\n\n\n\nGeltendmachung von Mehrbedarf für die Vergangenheit\n\n\n\n\n\n\n\n\n\n\n\n\n\n\n\n\n\n\n\n\n\n\n\n\n\n\n\n\n					\n					\n				\n				\n					\n						Bonuspaket 2025\n					\n					\n					605\,00 € 719\,95 €\n					WeiterlesenWeiter\n				Laden\n				Erledigt\n				\n				\n			\n\n\n\n\nUnser Bonuspaket ermöglicht die Teilnahme an 3 verschiedenen § 15 FAO-Veranstaltungen in diesem Jahr.Nach Zahlungseingang erhalten Sie einen Gutscheincode mit dem Sie die Tickets für 3 beliebige Veranstaltungen kaufen.Das Bonuspaket ist Personengebunden.
URL:https://fortbildung-am-mittwoch.de/event/aktuelles-unterhaltsrecht-3/
LOCATION:Rudolf Steiner Haus\, Mittelweg 11-12\, Hamburg\, 20148\, Deutschland
CATEGORIES:Fortbildungen
END:VEVENT
BEGIN:VEVENT
DTSTART;TZID=Europe/Berlin:20250423T143000
DTEND;TZID=Europe/Berlin:20250423T190000
DTSTAMP:20260421T194516
CREATED:20241124T150022Z
LAST-MODIFIED:20250318T172804Z
UID:10000034-1745418600-1745434800@fortbildung-am-mittwoch.de
SUMMARY:Führung im Mandantenverhältnis - Modelle der angewandten Kommunikationspsychologie
DESCRIPTION:Referentin: Katrin Weber Rechtsanwältin\, Fachanwältin für Familienrecht Klärungshelferin IfK\, Coach nach Schulz von Thun Keine § 15 FAO Fortbildung! \n\n\n\nDie ungeklärten Annahmen und Erwartungen von heute sind die Vorwürfe von morgen \n\n\n\nIn einem Mandat bekommen Sie es immer mit wenigstens drei Systemen zu tun: \n\n\n\n\nMit dem inneren System des Mandanten\n\n\n\nMit dem inneren System des Gegners\n\n\n\nMit dem System\, in dem der Konflikt verankert ist.\n\n\n\n\nEine wesens- und systemangemessene Kommunikation ist somit für den beruflichen Erfolg essentiell. \n\n\n\nDas Seminar vermittelt mit dem Modell des Kommunikationsquadrats von Friedemann Schulz von Thun \n\n\n\n\nAnalyse von Äußerungen des Mandanten und des Gegners.\n\n\n\nEmpfangsgewohnheiten des Mandanten und des Gegners\n\n\n\nErarbeiten von Reaktionsmöglichkeiten\n\n\n\nVorbereitung von Gesprächen\n\n\n\nu.a\n\n\n\n\nKenntniss über Grundausrichtungen der menschlichen Persönlichkeit ist für die Bearbeitung familienrechtlicher Mandate unerlässlich. Das Riemann-Thomann-Modell ist eine Persönlichkeits-\, Beziehungs- und Entwicklungslehre und hilft\, menschliche Unterschiede und ihre Auswirkung auf Kommunikation und Beziehung zu verstehen. \n\n\n\n\n\n\n\n\n\n\n\n\n\n\n\n\n\n\n\n\n\n\n\n					\n					\n				\n				\n					\n						Bonuspaket 2025\n					\n					\n					605\,00 € 719\,95 €\n					WeiterlesenWeiter\n				Laden\n				Erledigt\n				\n				\n			\n\n\n\n\nUnser Bonuspaket ermöglicht die Teilnahme an 3 verschiedenen § 15 FAO-Veranstaltungen in diesem Jahr.Nach Zahlungseingang erhalten Sie einen Gutscheincode mit dem Sie die Tickets für 3 beliebige Veranstaltungen kaufen.Das Bonuspaket ist Personengebunden.
URL:https://fortbildung-am-mittwoch.de/event/fuehrung-im-mandantenverhaeltnis-modelle-der-angewandten-kommunikationspsychologie/
LOCATION:Rudolf Steiner Haus\, Mittelweg 11-12\, Hamburg\, 20148\, Deutschland
END:VEVENT
END:VCALENDAR