BEGIN:VCALENDAR
VERSION:2.0
PRODID:-//FAM - ECPv6.15.20//NONSGML v1.0//EN
CALSCALE:GREGORIAN
METHOD:PUBLISH
X-WR-CALNAME:FAM
X-ORIGINAL-URL:https://fortbildung-am-mittwoch.de
X-WR-CALDESC:Veranstaltungen für FAM
REFRESH-INTERVAL;VALUE=DURATION:PT1H
X-Robots-Tag:noindex
X-PUBLISHED-TTL:PT1H
BEGIN:VTIMEZONE
TZID:Europe/Berlin
BEGIN:DAYLIGHT
TZOFFSETFROM:+0100
TZOFFSETTO:+0200
TZNAME:CEST
DTSTART:20230326T010000
END:DAYLIGHT
BEGIN:STANDARD
TZOFFSETFROM:+0200
TZOFFSETTO:+0100
TZNAME:CET
DTSTART:20231029T010000
END:STANDARD
BEGIN:DAYLIGHT
TZOFFSETFROM:+0100
TZOFFSETTO:+0200
TZNAME:CEST
DTSTART:20240331T010000
END:DAYLIGHT
BEGIN:STANDARD
TZOFFSETFROM:+0200
TZOFFSETTO:+0100
TZNAME:CET
DTSTART:20241027T010000
END:STANDARD
BEGIN:DAYLIGHT
TZOFFSETFROM:+0100
TZOFFSETTO:+0200
TZNAME:CEST
DTSTART:20250330T010000
END:DAYLIGHT
BEGIN:STANDARD
TZOFFSETFROM:+0200
TZOFFSETTO:+0100
TZNAME:CET
DTSTART:20251026T010000
END:STANDARD
END:VTIMEZONE
BEGIN:VEVENT
DTSTART;TZID=Europe/Berlin:20241016T143000
DTEND;TZID=Europe/Berlin:20241016T200000
DTSTAMP:20260423T164746
CREATED:20231203T103641Z
LAST-MODIFIED:20241124T142425Z
UID:10000031-1729089000-1729108800@fortbildung-am-mittwoch.de
SUMMARY:Verdacht auf sexuellen Missbrauch im familienrechtlichen Kontext
DESCRIPTION:Referent: Dr. Carsten Unger Diplom Psychologe Leiter des Instituts für gerichtspsychologische Gutachten Ahrensburg \n\n\n\nDr. Carsten Unger referiert über den Verdacht auf sexuellen Missbrauch im familienrechtlichen Kontext: \n\n\n\n\nsexualisiertes Verhalten von Kindern vs. altersgerechte Sexualentwicklung\n\n\n\nSuggestibilität von Kindern und mögliche förderliche Variablen für kindliche Falschaussagen\n\n\n\nBezugspersonen mit einschlägigen Vorstrafen – z. B. Kinderpornografiekonsum im Haushalt des Kindes\n\n\n\ninterkulturelle Aspekte\n\n\n\n\nUnd über die Gesprächsführung mit Kindern \n\n\n\n\nPsychologische Grundlagen\n\n\n\nFrageformen\n\n\n\nförderliche vs. ungünstige Verhaltensweisen des Erwachsenen im Gespräch\n\n\n\nUmgang mit unklaren Äußerungen des Kindes „Ich will da wohnen\, wo mein Kaninchen wohnt“\n\n\n\n\n\n\n\n\n\n\n\n\n\n\n\n\n\n\n\n\n\n\n\n\n\n\n\n\n\n\n\n\n					\n					\n				\n				\n					\n						Bonuspaket 2025\n					\n					\n					605\,00 € 719\,95 €\n					WeiterlesenWeiter\n				Laden\n				Erledigt\n				\n				\n			\n\n\n\n\nUnser Bonuspaket ermöglicht die Teilnahme an 3 verschiedenen § 15 FAO-Veranstaltungen in diesem Jahr.Nach Zahlungseingang erhalten Sie einen Gutscheincode mit dem Sie die Tickets für 3 beliebige Veranstaltungen kaufen.Das Bonuspaket ist Personengebunden.
URL:https://fortbildung-am-mittwoch.de/event/verdacht-auf-sexuellen-missbrauch-im-familienrechtlichen-kontext/
LOCATION:Rudolf Steiner Haus\, Mittelweg 11-12\, Hamburg\, 20148\, Deutschland
CATEGORIES:Fortbildungen
END:VEVENT
END:VCALENDAR