BEGIN:VCALENDAR
VERSION:2.0
PRODID:-//FAM - ECPv6.15.20//NONSGML v1.0//EN
CALSCALE:GREGORIAN
METHOD:PUBLISH
X-WR-CALNAME:FAM
X-ORIGINAL-URL:https://fortbildung-am-mittwoch.de
X-WR-CALDESC:Veranstaltungen für FAM
REFRESH-INTERVAL;VALUE=DURATION:PT1H
X-Robots-Tag:noindex
X-PUBLISHED-TTL:PT1H
BEGIN:VTIMEZONE
TZID:Europe/Berlin
BEGIN:DAYLIGHT
TZOFFSETFROM:+0100
TZOFFSETTO:+0200
TZNAME:CEST
DTSTART:20230326T010000
END:DAYLIGHT
BEGIN:STANDARD
TZOFFSETFROM:+0200
TZOFFSETTO:+0100
TZNAME:CET
DTSTART:20231029T010000
END:STANDARD
BEGIN:DAYLIGHT
TZOFFSETFROM:+0100
TZOFFSETTO:+0200
TZNAME:CEST
DTSTART:20240331T010000
END:DAYLIGHT
BEGIN:STANDARD
TZOFFSETFROM:+0200
TZOFFSETTO:+0100
TZNAME:CET
DTSTART:20241027T010000
END:STANDARD
BEGIN:DAYLIGHT
TZOFFSETFROM:+0100
TZOFFSETTO:+0200
TZNAME:CEST
DTSTART:20250330T010000
END:DAYLIGHT
BEGIN:STANDARD
TZOFFSETFROM:+0200
TZOFFSETTO:+0100
TZNAME:CET
DTSTART:20251026T010000
END:STANDARD
END:VTIMEZONE
BEGIN:VEVENT
DTSTART;TZID=Europe/Berlin:20240619T143000
DTEND;TZID=Europe/Berlin:20240619T200000
DTSTAMP:20260423T233610
CREATED:20231203T100141Z
LAST-MODIFIED:20231228T191616Z
UID:10000029-1718807400-1718827200@fortbildung-am-mittwoch.de
SUMMARY:Vermögensrechtliche Auseinandersetzung zwischen Ehegatten
DESCRIPTION:Referentin: Edith Kindermann Rechtsanwältin und Notarin Präsidentin des DAV  \n\n\n\nEdith Kindermann geht grundlegend auf das Thema Zugewinnausgleich und Nebengüterrecht ein. Inhaltlich behandelt Frau Kindermann u.a. \n\n\n\n\n Bewertungsfragen\n\n\n\nprozessuale Fragen\n\n\n\nvorzeitige Aufhebung der Zugewinngemeinschaft\n\n\n\nprivilegiertes Vermögen\n\n\n\nSteuererstattungen und Vorfälligkeitsentschädigung\n\n\n\nBeweissicherungsverfahren\n\n\n\nHerausgabeanspruch\n\n\n\nNutzungsentschädigung\n\n\n\nZuwendungen von Ehegatten \n\n\n\nZuwendungen von Schwiegereltern\n\n\n\n\n\n\n\n\n\n\n\n\n\n\n\n\n\n\n\n\n\n\n\n\n\n\n\n\n					\n					\n				\n				\n					\n						Bonuspaket 2025\n					\n					\n					605\,00 € 719\,95 €\n					WeiterlesenWeiter\n				Laden\n				Erledigt\n				\n				\n			\n\n\n\n\nUnser Bonuspaket ermöglicht die Teilnahme an 3 verschiedenen § 15 FAO-Veranstaltungen in diesem Jahr.Nach Zahlungseingang erhalten Sie einen Gutscheincode mit dem Sie die Tickets für 3 beliebige Veranstaltungen kaufen.Das Bonuspaket ist Personengebunden.
URL:https://fortbildung-am-mittwoch.de/event/vermoegensrechtliche-auseinandersetzung-zwischen-ehegatten/
LOCATION:Rudolf Steiner Haus\, Mittelweg 11-12\, Hamburg\, 20148\, Deutschland
CATEGORIES:Fortbildungen
END:VEVENT
END:VCALENDAR