BEGIN:VCALENDAR
VERSION:2.0
PRODID:-//FAM - ECPv6.15.20//NONSGML v1.0//EN
CALSCALE:GREGORIAN
METHOD:PUBLISH
X-ORIGINAL-URL:https://fortbildung-am-mittwoch.de
X-WR-CALDESC:Veranstaltungen für FAM
REFRESH-INTERVAL;VALUE=DURATION:PT1H
X-Robots-Tag:noindex
X-PUBLISHED-TTL:PT1H
BEGIN:VTIMEZONE
TZID:Europe/Berlin
BEGIN:DAYLIGHT
TZOFFSETFROM:+0100
TZOFFSETTO:+0200
TZNAME:CEST
DTSTART:20230326T010000
END:DAYLIGHT
BEGIN:STANDARD
TZOFFSETFROM:+0200
TZOFFSETTO:+0100
TZNAME:CET
DTSTART:20231029T010000
END:STANDARD
BEGIN:DAYLIGHT
TZOFFSETFROM:+0100
TZOFFSETTO:+0200
TZNAME:CEST
DTSTART:20240331T010000
END:DAYLIGHT
BEGIN:STANDARD
TZOFFSETFROM:+0200
TZOFFSETTO:+0100
TZNAME:CET
DTSTART:20241027T010000
END:STANDARD
BEGIN:DAYLIGHT
TZOFFSETFROM:+0100
TZOFFSETTO:+0200
TZNAME:CEST
DTSTART:20250330T010000
END:DAYLIGHT
BEGIN:STANDARD
TZOFFSETFROM:+0200
TZOFFSETTO:+0100
TZNAME:CET
DTSTART:20251026T010000
END:STANDARD
END:VTIMEZONE
BEGIN:VEVENT
DTSTART;TZID=Europe/Berlin:20240515T143000
DTEND;TZID=Europe/Berlin:20240515T200000
DTSTAMP:20260424T010245
CREATED:20231203T094655Z
LAST-MODIFIED:20240502T092320Z
UID:10000028-1715783400-1715803200@fortbildung-am-mittwoch.de
SUMMARY:Umgangsmodelle und Kindeswohl / Suggestion\, PAS und mehr
DESCRIPTION:Referent: Dr. Carsten Unger Diplom Psychologe Leiter des Instituts für gerichtspsychologische Gutachten Ahrensburg  \n\n\n\nDr. Carsten Unger referiert über die schutzwürdigen Bedürfnisse von Kindern in den verschiedenen Altersstufen im Zusammenhang mit Umgangsmodellen.Dr. Unger wird dabei insbesondere auf das Wechselmodell und auf die Regelung des Umganges im Hochkonfliktfeld eingehen.Weitere wesentliche Aspekte werden der Wille des Kindes \, Suggestion\, Umgangsverweigerung\, kritische Rezeption des PAS und Weiterentwicklung der Fachdiskussion sein. \n\n\n\n\n\n\n\n\n\n\n\n\n\n\n\n\n\n\n\n\n\n\n\n\n\n\n\n					\n					\n				\n				\n					\n						Bonuspaket 2025\n					\n					\n					605\,00 € 719\,95 €\n					WeiterlesenWeiter\n				Laden\n				Erledigt\n				\n				\n			\n\n\n\n\nUnser Bonuspaket ermöglicht die Teilnahme an 3 verschiedenen § 15 FAO-Veranstaltungen in diesem Jahr.Nach Zahlungseingang erhalten Sie einen Gutscheincode mit dem Sie die Tickets für 3 beliebige Veranstaltungen kaufen.Das Bonuspaket ist Personengebunden.
URL:https://fortbildung-am-mittwoch.de/event/umgangsmodelle-und-kindeswohl-suggestion-pas-und-mehr/
LOCATION:Rudolf Steiner Haus\, Mittelweg 11-12\, Hamburg\, 20148\, Deutschland
CATEGORIES:Fortbildungen
END:VEVENT
BEGIN:VEVENT
DTSTART;TZID=Europe/Berlin:20240528T190000
DTEND;TZID=Europe/Berlin:20240528T210000
DTSTAMP:20260424T010245
CREATED:20240313T090413Z
LAST-MODIFIED:20240422T131622Z
UID:10000032-1716922800-1716930000@fortbildung-am-mittwoch.de
SUMMARY:Abendsalon mit Psych. M.Sc. Sven Ritter
DESCRIPTION:Psychologe M.Sc. und Fachpsychologe für Rechtspsychologie BDP/DGPs \n\n\n\n\n\nWissen erweitern und kollegialer Austausch – Salon Kultur bei FAM \n\n\n\nHerr Ritter ist als psychologischer Gutachter in familiengerichtlichen Verfahren und als Dozent für Familienrechtspsychologische Fragestellungen an der Medical School Hamburg tätig. Herr Ritter gehört außerdem der Arbeitsgruppe des Instituts für Rechtspsychologie\, Rechtsmedizin und Pathologie an\, deren Ziel und Aufgabe es ist\, als Brücke zwischen den forensischen (Psycho-) Wissenschaften und dem Rechtssystem zu fungieren. \n\n\n\nIn einem Impulsvortrag referiert Herr Ritter aus psychologisch-sachverständiger Sicht zum Thema: \n\n\n\n„Interessenvertretung vs. Deeskalation – Umgang mit hochstrittigen Eltern in familienrechtlichen Verfahren“. \n\n\n\nIm Rahmen des Impulsvortrages wird Herr Ritter seine Erfahrungen als Sachverständiger einbringen und von seiner Arbeit als Forschender und Sachverständiger berichten \n\n\n\nIm Anschluss an den Vortrag ist ein interdisziplinärer Austausch ausdrücklich erwünscht und erbeten. \n\n\n\nDie Plätze sind begrenzt – Ich freue mich auf einen schönen und interessanten Abend!  \n\n\n\nFAO-Bescheinigung: 1 Stunde
URL:https://fortbildung-am-mittwoch.de/event/abendsalon-mit-sven-ritter/
LOCATION:Rudolf Steiner Haus\, Mittelweg 11-12\, Hamburg\, 20148\, Deutschland
CATEGORIES:Abendsalon
END:VEVENT
END:VCALENDAR