BEGIN:VCALENDAR
VERSION:2.0
PRODID:-//FAM - ECPv6.15.20//NONSGML v1.0//EN
CALSCALE:GREGORIAN
METHOD:PUBLISH
X-ORIGINAL-URL:https://fortbildung-am-mittwoch.de
X-WR-CALDESC:Veranstaltungen für FAM
REFRESH-INTERVAL;VALUE=DURATION:PT1H
X-Robots-Tag:noindex
X-PUBLISHED-TTL:PT1H
BEGIN:VTIMEZONE
TZID:Europe/Berlin
BEGIN:DAYLIGHT
TZOFFSETFROM:+0100
TZOFFSETTO:+0200
TZNAME:CEST
DTSTART:20220327T010000
END:DAYLIGHT
BEGIN:STANDARD
TZOFFSETFROM:+0200
TZOFFSETTO:+0100
TZNAME:CET
DTSTART:20221030T010000
END:STANDARD
BEGIN:DAYLIGHT
TZOFFSETFROM:+0100
TZOFFSETTO:+0200
TZNAME:CEST
DTSTART:20230326T010000
END:DAYLIGHT
BEGIN:STANDARD
TZOFFSETFROM:+0200
TZOFFSETTO:+0100
TZNAME:CET
DTSTART:20231029T010000
END:STANDARD
BEGIN:DAYLIGHT
TZOFFSETFROM:+0100
TZOFFSETTO:+0200
TZNAME:CEST
DTSTART:20240331T010000
END:DAYLIGHT
BEGIN:STANDARD
TZOFFSETFROM:+0200
TZOFFSETTO:+0100
TZNAME:CET
DTSTART:20241027T010000
END:STANDARD
END:VTIMEZONE
BEGIN:VEVENT
DTSTART;TZID=Europe/Berlin:20231107T190000
DTEND;TZID=Europe/Berlin:20231107T210000
DTSTAMP:20260424T112925
CREATED:20230802T131927Z
LAST-MODIFIED:20230807T123155Z
UID:10000026-1699383600-1699390800@fortbildung-am-mittwoch.de
SUMMARY:Abendsalon mit Dipl.-Psych. Dr. Alexander Bodansky
DESCRIPTION:Wissen erweitern und kollegialer Austausch – Salon Kultur bei FAM \n\n\n\nHerr Dr. Bodansky ist als psychologischer Gutachter in familiengerichtlichen Verfahren und als wissenschaftlicher Mitarbeiter am Fachbereich Sozialpsychologie der Universität Hamburg tätig.  \n\n\n\nIn einem Impulsvortrag stellt Herr Dr. Bodansky das Ergebnis seiner im Herbst 2023 fertiggestellten Studie Analyse von familienpsychologischen Gutachten vor\, die im Auftrag von Familiengerichten erstellt worden sind.  \n\n\n\nAnalog zu Leitner\, W.G. (2000) sind im Rahmen der Studie 100 familienpsychologische Gutachten von 100 unterschiedlichen Gutachtern analysiert und die methodischen Stärken und Schwächen herausgearbeitet worden. \n\n\n\nIn seinem Vortrag wird Herr Dr. Bodansky auf die bedeutsamen methodischen Schwächen und Stärken der Gutachten und auf analytische Zusammenhänge zwischen Qualifikation des Gutachters und Qualität der Gutachten eingehen. \n\n\n\nIm Anschluss an den Vortrag ist ein interdisziplinärer Austausch ausdrücklich erwünscht und erbeten. \n\n\n\nDie Plätze sind begrenzt – Ich freue mich auf einen schönen und interessanten Abend! 
URL:https://fortbildung-am-mittwoch.de/event/abendsalon-mit-dipl-psych-dr-alexander-bodansky/
LOCATION:Rudolf Steiner Haus\, Mittelweg 11-12\, Hamburg\, 20148\, Deutschland
CATEGORIES:Abendsalon
END:VEVENT
END:VCALENDAR