BEGIN:VCALENDAR
VERSION:2.0
PRODID:-//FAM - ECPv6.15.20//NONSGML v1.0//EN
CALSCALE:GREGORIAN
METHOD:PUBLISH
X-ORIGINAL-URL:https://fortbildung-am-mittwoch.de
X-WR-CALDESC:Veranstaltungen für FAM
REFRESH-INTERVAL;VALUE=DURATION:PT1H
X-Robots-Tag:noindex
X-PUBLISHED-TTL:PT1H
BEGIN:VTIMEZONE
TZID:Europe/Berlin
BEGIN:DAYLIGHT
TZOFFSETFROM:+0100
TZOFFSETTO:+0200
TZNAME:CEST
DTSTART:20220327T010000
END:DAYLIGHT
BEGIN:STANDARD
TZOFFSETFROM:+0200
TZOFFSETTO:+0100
TZNAME:CET
DTSTART:20221030T010000
END:STANDARD
BEGIN:DAYLIGHT
TZOFFSETFROM:+0100
TZOFFSETTO:+0200
TZNAME:CEST
DTSTART:20230326T010000
END:DAYLIGHT
BEGIN:STANDARD
TZOFFSETFROM:+0200
TZOFFSETTO:+0100
TZNAME:CET
DTSTART:20231029T010000
END:STANDARD
BEGIN:DAYLIGHT
TZOFFSETFROM:+0100
TZOFFSETTO:+0200
TZNAME:CEST
DTSTART:20240331T010000
END:DAYLIGHT
BEGIN:STANDARD
TZOFFSETFROM:+0200
TZOFFSETTO:+0100
TZNAME:CET
DTSTART:20241027T010000
END:STANDARD
END:VTIMEZONE
BEGIN:VEVENT
DTSTART;TZID=Europe/Berlin:20231011T143000
DTEND;TZID=Europe/Berlin:20231011T200000
DTSTAMP:20260424T130457
CREATED:20221112T105155Z
LAST-MODIFIED:20230308T224843Z
UID:10000020-1697034600-1697054400@fortbildung-am-mittwoch.de
SUMMARY:Schnittstellen Familienrecht / Erbrecht
DESCRIPTION:Referentin: Maria Demirci Fachanwältin für Familienrecht und Erbrecht\, München  \n\n\n\nIn dem Seminar wird ein kompakter Überblick über praxisrelevante Schnittstellen zwischen Familienrecht und Erbrecht vermittelt.Frau Demirci wird auf rechtliche Grundlagen eingehen und typische Fallkonstellationen in der anwaltlichen Beratung darstellen. Insbesondere erörtert werden die Themen: \n\n\n\n\nAbstammung und Verwandtschaft \n\n\n\nGesetzliches Erbrecht der Ehegatten unter Berücksichtigung der Güterstände\n\n\n\nAusgewählte Problemfelder bei der Ehevertragsgestaltung (Güterstandsschaukeln\, Pflichtteilsverzicht)\n\n\n\nTrennung\, Scheidung\, Ehegattenerbrecht\n\n\n\nUnterhalt und Erbfall\n\n\n\nFamilienrechtliche Anordnungen in letztwilligen Verfügungen\n\n\n\nInternationale Aspekte\n\n\n\n\n\n\n\n\n\n\n\n\n\n\n\n\n\n\n\n\n					\n					\n				\n				\n					\n						Bonuspaket 2025\n					\n					\n					605\,00 € 719\,95 €\n					WeiterlesenWeiter\n				Laden\n				Erledigt\n				\n				\n			\n\n\n\n\nUnser Bonuspaket ermöglicht die Teilnahme an 3 verschiedenen § 15 FAO-Veranstaltungen in diesem Jahr.Nach Zahlungseingang erhalten Sie einen Gutscheincode mit dem Sie die Tickets für 3 beliebige Veranstaltungen kaufen.Das Bonuspaket ist Personengebunden.
URL:https://fortbildung-am-mittwoch.de/event/schnittstellen-familienrecht-erbrecht/
LOCATION:Rudolf Steiner Haus\, Mittelweg 11-12\, Hamburg\, 20148\, Deutschland
CATEGORIES:Fortbildungen
END:VEVENT
END:VCALENDAR