BEGIN:VCALENDAR
VERSION:2.0
PRODID:-//FAM - ECPv6.15.20//NONSGML v1.0//EN
CALSCALE:GREGORIAN
METHOD:PUBLISH
X-WR-CALNAME:FAM
X-ORIGINAL-URL:https://fortbildung-am-mittwoch.de
X-WR-CALDESC:Veranstaltungen für FAM
REFRESH-INTERVAL;VALUE=DURATION:PT1H
X-Robots-Tag:noindex
X-PUBLISHED-TTL:PT1H
BEGIN:VTIMEZONE
TZID:Europe/Berlin
BEGIN:DAYLIGHT
TZOFFSETFROM:+0100
TZOFFSETTO:+0200
TZNAME:CEST
DTSTART:20220327T010000
END:DAYLIGHT
BEGIN:STANDARD
TZOFFSETFROM:+0200
TZOFFSETTO:+0100
TZNAME:CET
DTSTART:20221030T010000
END:STANDARD
BEGIN:DAYLIGHT
TZOFFSETFROM:+0100
TZOFFSETTO:+0200
TZNAME:CEST
DTSTART:20230326T010000
END:DAYLIGHT
BEGIN:STANDARD
TZOFFSETFROM:+0200
TZOFFSETTO:+0100
TZNAME:CET
DTSTART:20231029T010000
END:STANDARD
BEGIN:DAYLIGHT
TZOFFSETFROM:+0100
TZOFFSETTO:+0200
TZNAME:CEST
DTSTART:20240331T010000
END:DAYLIGHT
BEGIN:STANDARD
TZOFFSETFROM:+0200
TZOFFSETTO:+0100
TZNAME:CET
DTSTART:20241027T010000
END:STANDARD
END:VTIMEZONE
BEGIN:VEVENT
DTSTART;TZID=Europe/Berlin:20230614T143000
DTEND;TZID=Europe/Berlin:20230614T200000
DTSTAMP:20260424T205518
CREATED:20221111T122319Z
LAST-MODIFIED:20230308T225320Z
UID:10000017-1686753000-1686772800@fortbildung-am-mittwoch.de
SUMMARY:Umgang\, Sorgerecht und Kindeswohl - Persönlichkeitsstörungen und deren Einflussnahme auf Trennungskonflikte?
DESCRIPTION:Referenten: Dr. Sven Billhardt Richter am Hanseatischen Oberlandesgericht Dr. Anne KostLeitende Ärztin der Abteilung für Kinder- und Jugendpsychosomatik des Altonaer Kinderkrankenhauses Fachärztin für Kinder- und Jugendpsychiatrie und -psychotherapie Angehörige der klinikinternen und multiprofessionellen Kinderschutzgruppe  \n\n\n\nIm ersten Teil des Vortrages referiert Dr. Sven Billhardt über die rechtlichen Rahmenbedingungen des Sorge- und Umgangsverfahrens.Insbesondere erörtert werden die Themen: \n\n\n\n\nVollstreckung von Umgangs- und Sorgeentscheidungen – Fallstricke und Fehler vermeiden!\n\n\n\nVerfahren zur erleichterten Einbindung des nicht ehelichen Vaters in die elterliche Sorge\, § 155a FamFG\n\n\n\nUmgang und Umgangserschwernisse wie beispielsweise Suchtproblematik\, Vorstrafen oder prekäre Wohnverhältnisse\n\n\n\nNeues zum Wechselmodell\n\n\n\nAktuelle höchstrichterliche Rechtsprechung zur elterlichen Sorge und Umgang\n\n\n\n\nIm zweiten Teil des Vortrages wird Frau Dr. Anne Kost zum Thema Persönlichkeitsstörungen referieren und deren verschiedene Ausprägungsformen\, wie u.a. die emotional instabile Persönlichkeitsstörung vom Borderline Typ und die narzisstische Persönlichkeitsstörung darstellen. \n\n\n\nFrau Dr. Kost wird den aktuellen Wissenstand über deren Entstehung erläutern und das Erkennen und Verstehen von Persönlichkeitsstörungen skizzieren. \n\n\n\nAußerdem wird sie die Frage bezüglich möglicher Auswirkungen und aufrechterhaltender Faktoren für konflikthafte Trennungen beleuchten und sich in diesem Kontext mit dem Thema Bindungstoleranz und -intoleranz sowie deren Auswirkung auf das Kind beschäftigen. Als besonderes Augenmerk sollen in diesem Seminarteil Hilfestellungen und Anregungen für den Umgang mit den teilweise herausfordernden Klient*innen vermittelt werden. \n\n\n\n\n\n\n\n\n\n\n\n\n\n\n\n\n\n\n\n					\n					\n				\n				\n					\n						Bonuspaket 2025\n					\n					\n					605\,00 € 719\,95 €\n					WeiterlesenWeiter\n				Laden\n				Erledigt\n				\n				\n			\n\n\n\n\nUnser Bonuspaket ermöglicht die Teilnahme an 3 verschiedenen § 15 FAO-Veranstaltungen in diesem Jahr.Nach Zahlungseingang erhalten Sie einen Gutscheincode mit dem Sie die Tickets für 3 beliebige Veranstaltungen kaufen.Das Bonuspaket ist Personengebunden.
URL:https://fortbildung-am-mittwoch.de/event/umgang-sorgerecht-und-kindeswohl-persoenlichkeitsstoerungen-und-deren-einflussnahme-auf-trennungskonflikte/
LOCATION:Rudolf Steiner Haus\, Mittelweg 11-12\, Hamburg\, 20148\, Deutschland
CATEGORIES:Fortbildungen
END:VEVENT
BEGIN:VEVENT
DTSTART;TZID=Europe/Berlin:20230621T143000
DTEND;TZID=Europe/Berlin:20230621T200000
DTSTAMP:20260424T205518
CREATED:20221218T123150Z
LAST-MODIFIED:20230308T225158Z
UID:10000021-1687357800-1687377600@fortbildung-am-mittwoch.de
SUMMARY:Ermittlung des unterhaltsrelevanten Einkommens
DESCRIPTION:Referent: Dr. Jürgen Soyka  Vors. Richter am OLG Düsseldorf a.D.  \n\n\n\nErmittlung des unterhaltsrelevanten Einkommens – beim Ehegattenunterhalt und Kindesunterhalts \n\n\n\nHerr Dr. Jürgen Soyka erläutert praxisnah die Ermittlung des unterhaltsrelevanten Einkommens: \n\n\n\n\nEinkommensarten\n\n\n\nPrivate Nutzung eines Firmenfahrzeugs\n\n\n\nWohnvorteil\n\n\n\nUnterhaltsrelevante Abzüge\n\n\n\nDarlegungs- und Beweislast\n\n\n\nBerücksichtigung weiterer unterhaltsberechtigter Personen\n\n\n\nUnterhaltsrelevantes Einkommen beim Wechselmodell\n\n\n\n\n\n\n\n\n\n\n\n\n\n\n\n\n\n\n\n\n					\n					\n				\n				\n					\n						Bonuspaket 2025\n					\n					\n					605\,00 € 719\,95 €\n					WeiterlesenWeiter\n				Laden\n				Erledigt\n				\n				\n			\n\n\n\n\nUnser Bonuspaket ermöglicht die Teilnahme an 3 verschiedenen § 15 FAO-Veranstaltungen in diesem Jahr.Nach Zahlungseingang erhalten Sie einen Gutscheincode mit dem Sie die Tickets für 3 beliebige Veranstaltungen kaufen.Das Bonuspaket ist Personengebunden.
URL:https://fortbildung-am-mittwoch.de/event/ermittlung-des-unterhaltsrelevanten-einkommens/
LOCATION:Rudolf Steiner Haus\, Mittelweg 11-12\, Hamburg\, 20148\, Deutschland
CATEGORIES:Fortbildungen
END:VEVENT
END:VCALENDAR