BEGIN:VCALENDAR
VERSION:2.0
PRODID:-//FAM - ECPv6.15.20//NONSGML v1.0//EN
CALSCALE:GREGORIAN
METHOD:PUBLISH
X-WR-CALNAME:FAM
X-ORIGINAL-URL:https://fortbildung-am-mittwoch.de
X-WR-CALDESC:Veranstaltungen für FAM
REFRESH-INTERVAL;VALUE=DURATION:PT1H
X-Robots-Tag:noindex
X-PUBLISHED-TTL:PT1H
BEGIN:VTIMEZONE
TZID:Europe/Berlin
BEGIN:DAYLIGHT
TZOFFSETFROM:+0100
TZOFFSETTO:+0200
TZNAME:CEST
DTSTART:20220327T010000
END:DAYLIGHT
BEGIN:STANDARD
TZOFFSETFROM:+0200
TZOFFSETTO:+0100
TZNAME:CET
DTSTART:20221030T010000
END:STANDARD
BEGIN:DAYLIGHT
TZOFFSETFROM:+0100
TZOFFSETTO:+0200
TZNAME:CEST
DTSTART:20230326T010000
END:DAYLIGHT
BEGIN:STANDARD
TZOFFSETFROM:+0200
TZOFFSETTO:+0100
TZNAME:CET
DTSTART:20231029T010000
END:STANDARD
BEGIN:DAYLIGHT
TZOFFSETFROM:+0100
TZOFFSETTO:+0200
TZNAME:CEST
DTSTART:20240331T010000
END:DAYLIGHT
BEGIN:STANDARD
TZOFFSETFROM:+0200
TZOFFSETTO:+0100
TZNAME:CET
DTSTART:20241027T010000
END:STANDARD
END:VTIMEZONE
BEGIN:VEVENT
DTSTART;TZID=Europe/Berlin:20230906T143000
DTEND;TZID=Europe/Berlin:20230906T200000
DTSTAMP:20260421T205448
CREATED:20221111T134111Z
LAST-MODIFIED:20230903T134241Z
UID:10000018-1694010600-1694030400@fortbildung-am-mittwoch.de
SUMMARY:Eheverträge – wie angreifbar sind sie nach der neueren Rechtsprechung?
DESCRIPTION:Referentin: Ingeborg Rakete-Dombek Fachanwältin für Familienrecht\, Berlin  \n\n\n\n\nEhevertragskontrolle seit BVerfG 2004/BGH 2014 (Kernbereichslehre)\n\n\n\nEhevertragsfreiheit und ihre Grenzen\n\n\n\nGrundsätze der Inhaltskontrolle (Wirksamkeits- und Ausübungskontrolle)\n\n\n\nBeurkundungsverfahren/Protokollierung/Anwaltsvergleich § 278 Abs. 6 ZPO\n\n\n\nObjektive und subjektive Momente des Vertragsschlusses\n\n\n\nAnsatzpunkte für eine Kontrolle beim Güterrecht\, Versorgungsausgleich\, Trennungsunterhalt\, nachehelichem Unterhalt\n\n\n\nHindernis salvatorische Klausel?\n\n\n\nEinzelfälle neuerer Rechtsprechung\n\n\n\nSteuerliche und sozialrechtliche Gesichtspunkte von Eheverträgen/Scheidungsfolgenvereinbarungen\n\n\n\n\n\n\n\n\n\n\n\n\n\n\n\n\n\n\n\n\n					\n					\n				\n				\n					\n						Bonuspaket 2025\n					\n					\n					605\,00 € 719\,95 €\n					WeiterlesenWeiter\n				Laden\n				Erledigt\n				\n				\n			\n\n\n\n\nUnser Bonuspaket ermöglicht die Teilnahme an 3 verschiedenen § 15 FAO-Veranstaltungen in diesem Jahr.Nach Zahlungseingang erhalten Sie einen Gutscheincode mit dem Sie die Tickets für 3 beliebige Veranstaltungen kaufen.Das Bonuspaket ist Personengebunden.
URL:https://fortbildung-am-mittwoch.de/event/ehevertraege-wie-angreifbar-sind-sie-nach-der-neueren-rechtsprechung/
LOCATION:Rudolf Steiner Haus\, Mittelweg 11-12\, Hamburg\, 20148\, Deutschland
CATEGORIES:Fortbildungen
END:VEVENT
BEGIN:VEVENT
DTSTART;TZID=Europe/Berlin:20230711T190000
DTEND;TZID=Europe/Berlin:20230711T210000
DTSTAMP:20260421T205448
CREATED:20230416T141611Z
LAST-MODIFIED:20230416T144408Z
UID:10000025-1689102000-1689109200@fortbildung-am-mittwoch.de
SUMMARY:Abendsalon mit Prof. Dr. med. Michael Schulte-Markwort
DESCRIPTION:Wissen erweitern und kollegialer Austausch – Salon Kultur bei FAM \n\n\n\nDer Abend beginnt mit einem Impulsvortrag zu dem Thema \n\n\n\n„Trennungs- und Scheidungskonflikte aus der Sicht des Kindes“\, \n\n\n\nan den sich ein kollegialer Austausch und interdisziplinäre Begegnung bei Schnittchen und Wein anschließt. \n\n\n\nHerr Prof. Dr. Schulte-Markwort ist Facharzt für Kinder- und Jugendpsychiatrie und – psychotherapie\, Ärztlicher Direktor der Fachklinik Marzipanfabrik und Arzt/Supervisor Privatpraxis Paidion – Heilkunde für Kinderseelen in Hamburg und Berlin.
URL:https://fortbildung-am-mittwoch.de/event/abendsalon-mit-prof-dr-med-michael-schulte-markwort/
LOCATION:Rudolf Steiner Haus\, Mittelweg 11-12\, Hamburg\, 20148\, Deutschland
CATEGORIES:Abendsalon
END:VEVENT
BEGIN:VEVENT
DTSTART;TZID=Europe/Berlin:20230621T143000
DTEND;TZID=Europe/Berlin:20230621T200000
DTSTAMP:20260421T205448
CREATED:20221218T123150Z
LAST-MODIFIED:20230308T225158Z
UID:10000021-1687357800-1687377600@fortbildung-am-mittwoch.de
SUMMARY:Ermittlung des unterhaltsrelevanten Einkommens
DESCRIPTION:Referent: Dr. Jürgen Soyka  Vors. Richter am OLG Düsseldorf a.D.  \n\n\n\nErmittlung des unterhaltsrelevanten Einkommens – beim Ehegattenunterhalt und Kindesunterhalts \n\n\n\nHerr Dr. Jürgen Soyka erläutert praxisnah die Ermittlung des unterhaltsrelevanten Einkommens: \n\n\n\n\nEinkommensarten\n\n\n\nPrivate Nutzung eines Firmenfahrzeugs\n\n\n\nWohnvorteil\n\n\n\nUnterhaltsrelevante Abzüge\n\n\n\nDarlegungs- und Beweislast\n\n\n\nBerücksichtigung weiterer unterhaltsberechtigter Personen\n\n\n\nUnterhaltsrelevantes Einkommen beim Wechselmodell\n\n\n\n\n\n\n\n\n\n\n\n\n\n\n\n\n\n\n\n\n					\n					\n				\n				\n					\n						Bonuspaket 2025\n					\n					\n					605\,00 € 719\,95 €\n					WeiterlesenWeiter\n				Laden\n				Erledigt\n				\n				\n			\n\n\n\n\nUnser Bonuspaket ermöglicht die Teilnahme an 3 verschiedenen § 15 FAO-Veranstaltungen in diesem Jahr.Nach Zahlungseingang erhalten Sie einen Gutscheincode mit dem Sie die Tickets für 3 beliebige Veranstaltungen kaufen.Das Bonuspaket ist Personengebunden.
URL:https://fortbildung-am-mittwoch.de/event/ermittlung-des-unterhaltsrelevanten-einkommens/
LOCATION:Rudolf Steiner Haus\, Mittelweg 11-12\, Hamburg\, 20148\, Deutschland
CATEGORIES:Fortbildungen
END:VEVENT
BEGIN:VEVENT
DTSTART;TZID=Europe/Berlin:20230614T143000
DTEND;TZID=Europe/Berlin:20230614T200000
DTSTAMP:20260421T205448
CREATED:20221111T122319Z
LAST-MODIFIED:20230308T225320Z
UID:10000017-1686753000-1686772800@fortbildung-am-mittwoch.de
SUMMARY:Umgang\, Sorgerecht und Kindeswohl - Persönlichkeitsstörungen und deren Einflussnahme auf Trennungskonflikte?
DESCRIPTION:Referenten: Dr. Sven Billhardt Richter am Hanseatischen Oberlandesgericht Dr. Anne KostLeitende Ärztin der Abteilung für Kinder- und Jugendpsychosomatik des Altonaer Kinderkrankenhauses Fachärztin für Kinder- und Jugendpsychiatrie und -psychotherapie Angehörige der klinikinternen und multiprofessionellen Kinderschutzgruppe  \n\n\n\nIm ersten Teil des Vortrages referiert Dr. Sven Billhardt über die rechtlichen Rahmenbedingungen des Sorge- und Umgangsverfahrens.Insbesondere erörtert werden die Themen: \n\n\n\n\nVollstreckung von Umgangs- und Sorgeentscheidungen – Fallstricke und Fehler vermeiden!\n\n\n\nVerfahren zur erleichterten Einbindung des nicht ehelichen Vaters in die elterliche Sorge\, § 155a FamFG\n\n\n\nUmgang und Umgangserschwernisse wie beispielsweise Suchtproblematik\, Vorstrafen oder prekäre Wohnverhältnisse\n\n\n\nNeues zum Wechselmodell\n\n\n\nAktuelle höchstrichterliche Rechtsprechung zur elterlichen Sorge und Umgang\n\n\n\n\nIm zweiten Teil des Vortrages wird Frau Dr. Anne Kost zum Thema Persönlichkeitsstörungen referieren und deren verschiedene Ausprägungsformen\, wie u.a. die emotional instabile Persönlichkeitsstörung vom Borderline Typ und die narzisstische Persönlichkeitsstörung darstellen. \n\n\n\nFrau Dr. Kost wird den aktuellen Wissenstand über deren Entstehung erläutern und das Erkennen und Verstehen von Persönlichkeitsstörungen skizzieren. \n\n\n\nAußerdem wird sie die Frage bezüglich möglicher Auswirkungen und aufrechterhaltender Faktoren für konflikthafte Trennungen beleuchten und sich in diesem Kontext mit dem Thema Bindungstoleranz und -intoleranz sowie deren Auswirkung auf das Kind beschäftigen. Als besonderes Augenmerk sollen in diesem Seminarteil Hilfestellungen und Anregungen für den Umgang mit den teilweise herausfordernden Klient*innen vermittelt werden. \n\n\n\n\n\n\n\n\n\n\n\n\n\n\n\n\n\n\n\n					\n					\n				\n				\n					\n						Bonuspaket 2025\n					\n					\n					605\,00 € 719\,95 €\n					WeiterlesenWeiter\n				Laden\n				Erledigt\n				\n				\n			\n\n\n\n\nUnser Bonuspaket ermöglicht die Teilnahme an 3 verschiedenen § 15 FAO-Veranstaltungen in diesem Jahr.Nach Zahlungseingang erhalten Sie einen Gutscheincode mit dem Sie die Tickets für 3 beliebige Veranstaltungen kaufen.Das Bonuspaket ist Personengebunden.
URL:https://fortbildung-am-mittwoch.de/event/umgang-sorgerecht-und-kindeswohl-persoenlichkeitsstoerungen-und-deren-einflussnahme-auf-trennungskonflikte/
LOCATION:Rudolf Steiner Haus\, Mittelweg 11-12\, Hamburg\, 20148\, Deutschland
CATEGORIES:Fortbildungen
END:VEVENT
BEGIN:VEVENT
DTSTART;TZID=Europe/Berlin:20230531T143000
DTEND;TZID=Europe/Berlin:20230531T200000
DTSTAMP:20260421T205448
CREATED:20221111T120322Z
LAST-MODIFIED:20230329T170850Z
UID:10000016-1685543400-1685563200@fortbildung-am-mittwoch.de
SUMMARY:Schnittstellen Steuerrecht / Familienrecht
DESCRIPTION:Referentin: Dr. Renate Perleberg-Kölbel Fachanwältin für Familienrecht\, Steuerrecht und Insolvenzrecht\, Gutachterin für Unternehmensbewertungen In dem Seminar werden die Schnittstellen zwischen Familien- und Steuerrecht praxisnah dargestellt. Hierbei wird Frau Dr. Perleberg-Kölbel insbesondere auf nachstehende Themen eingehen: \n\n\n\n\nDie betroffenen Steuerarten\n\n\n\nDie steuerlichen Verschonungstatbestände\n\n\n\nEheschließung und Steuern\n\n\n\nSteuerrechtliche Folgen von Rechtshandlungen während der intakten Ehe\n\n\n\nUnterhalt und Steuer\n\n\n\nGüterrecht und Steuern\n\n\n\nSteuerliche Einkommensveranlagung\n\n\n\nRechtshandlungen während der intakten Ehe\n\n\n\nDie Übertragung des Familienheims und die steuerlichen Auswirkungen\n\n\n\nDie „Bedarfsabfindungsvereinbarung“\n\n\n\n\n\n\n\n\n\n\n\n\n\n\n\n\n\n\n\n\n					\n					\n				\n				\n					\n						Bonuspaket 2025\n					\n					\n					605\,00 € 719\,95 €\n					WeiterlesenWeiter\n				Laden\n				Erledigt\n				\n				\n			\n\n\n\n\nUnser Bonuspaket ermöglicht die Teilnahme an 3 verschiedenen § 15 FAO-Veranstaltungen in diesem Jahr.Nach Zahlungseingang erhalten Sie einen Gutscheincode mit dem Sie die Tickets für 3 beliebige Veranstaltungen kaufen.Das Bonuspaket ist Personengebunden.
URL:https://fortbildung-am-mittwoch.de/event/schnittstellen-steuerrecht-familienrecht/
LOCATION:Rudolf Steiner Haus\, Mittelweg 11-12\, Hamburg\, 20148\, Deutschland
CATEGORIES:Fortbildungen
END:VEVENT
BEGIN:VEVENT
DTSTART;TZID=Europe/Berlin:20230503T143000
DTEND;TZID=Europe/Berlin:20230503T200000
DTSTAMP:20260421T205448
CREATED:20221110T130445Z
LAST-MODIFIED:20230416T143937Z
UID:10000015-1683124200-1683144000@fortbildung-am-mittwoch.de
SUMMARY:Aktuelles Unterhaltsrecht
DESCRIPTION:Referent: Dr. Alexander Witt Richter am Hanseatischen Oberlandesgericht Dr. Alexander Witt stellt die wichtigsten aktuellen Entscheidungen des Bundesgerichtshofes zum Unterhaltsrecht vor und bringt die Seminarteilnehmer*innen so auf den neuesten Stand im Unterhaltsrecht. Praxisnah darstellen wird Herr Dr. Witt u.a. die Einkommensermittlung bei abhängig und selbständig Beschäftigten und die Unterhaltsberechnung beim Wechselmodell. \n\n\n\n\n\n\n\n\n\n\n\n\n\n\n\n\n\n\n\n					\n					\n				\n				\n					\n						Bonuspaket 2025\n					\n					\n					605\,00 € 719\,95 €\n					WeiterlesenWeiter\n				Laden\n				Erledigt\n				\n				\n			\n\n\n\n\nUnser Bonuspaket ermöglicht die Teilnahme an 3 verschiedenen § 15 FAO-Veranstaltungen in diesem Jahr.Nach Zahlungseingang erhalten Sie einen Gutscheincode mit dem Sie die Tickets für 3 beliebige Veranstaltungen kaufen.Das Bonuspaket ist Personengebunden.
URL:https://fortbildung-am-mittwoch.de/event/aktuelles-unterhaltsrecht-2/
LOCATION:Rudolf Steiner Haus\, Mittelweg 11-12\, Hamburg\, 20148\, Deutschland
CATEGORIES:Fortbildungen
END:VEVENT
BEGIN:VEVENT
DTSTART;TZID=Europe/Berlin:20230418T190000
DTEND;TZID=Europe/Berlin:20230418T210000
DTSTAMP:20260421T205448
CREATED:20230211T160801Z
LAST-MODIFIED:20230308T225705Z
UID:10000023-1681844400-1681851600@fortbildung-am-mittwoch.de
SUMMARY:Abendsalon mit Prof. Dr. Dragana Seifert
DESCRIPTION:Wissen erweitern und kollegialer Austausch – Salon Kultur bei FAM \n\n\n\nDer Abend beginnt mit einem Impulsvortrag an den sich ein kollegialer Austausch und interdisziplinäre Begegnung bei Schnittchen und Wein anschließt. \n\n\n\nFrau Prof. Dr. Seifert ist Fachärztin für Rechtsmedizin und Oberärztin des Childhoodhaus / Institut für Rechtsmedizin. \n\n\n\nFrau Prof. Dr. Seifert stellt in einem Impulsvortrag das Childhood Haus am UKE in Hamburg vor. In ihrem Vortrag wird Frau Prof. Dr. Seifert darauf eingehen\, wie das Konzept des Childhood-Haus in die anwaltliche Beratung einfließen kann.
URL:https://fortbildung-am-mittwoch.de/event/abendsalon-mit-prof-dr-dragana-seifert/
LOCATION:Rudolf Steiner Haus\, Mittelweg 11-12\, Hamburg\, 20148\, Deutschland
CATEGORIES:Abendsalon
END:VEVENT
END:VCALENDAR